Workbook

Sheet DETALLE PRESUPUESTARIO
A2: DETALLE FINANCIERO 2023
A3: INGRESO
A4: ASIGNACION POR PARTE DEL GAD RUMIÑAHUI 2023 | B4: 128000
A5: SALDO CAJA BANCOS 2022 | B5: 26425.55
A6: PRESUPUESTO PARTICIPATIVO 2023 | B6: 18030
A7: REFORMA AL COPRODER ALI | B7: 50000
A9: DESGLOSE DEL GASTO:
A10: DESCRIPCIÓN DEL GASTO | B10: Presupuesto | C10: Ejecutado | D10: Por devengar
A11: GASTO CORRIENTE SUELDOS Y SALARIOS | B11: =+'TALENTO HUMANO'!G66 -> 107181.44 | C11: =+'TALENTO HUMANO'!G67 -> 107181.44 | D11: =+B11-C11 -> 0
A12: GASTO CORRIENTE SERVICIOS GENERALES | B12: 22243.8 | C12: =+B12-D12 -> 21112.72 | D12: =+'POA CORRIENTE'!T19 -> 1131.08
A13: PASIVO CIRCULANTE IESS - SRI | B13: 1517.76 | C13: =+B13 -> 1517.76 | D13: =+B13-C13 -> 0
A14: GASTO DE INVERSIÓN | B14: =+'MATRIZ POA TECNICO'!AB41 -> 16871.68 | C14: =+'MATRIZ POA TECNICO'!AC41 -> 16778.12 | D14: =+B14-C14 -> 93.56
A15: GASTO PRESUPUESTO REFORMA ALI | B15: =+'MATRIZ POA TECNICO'!AB43 -> 50000 | C15: =+'MATRIZ POA TECNICO'!AC43 -> 11725.76 | D15: =+B15-C15 -> 38274.24
A16: GASTO PRESUPUESTO PARTICIPATIVO 2023 | B16: =+'MATRIZ POA TECNICO'!AB42 -> 18030 | C16: =+'MATRIZ POA TECNICO'!AC42 -> 18030 | D16: =+B16-C16 -> 0
A17: SALDO CAJA BANCOS ENERO A DICIEMBRE 2023 | D17: =SUM(D11:D16) -> 39498.88 | E17: 0.82

Sheet POA CORRIENTE
B1: MATRIZ POA GASTO CORRIENTE-2023
B2: CONSEJO CANTONAL DE PROTECCIÓN DE DERECHOS DE RUMIÑAHUI "COPRODER"
B3: PARTIDA PRESUPUESTARIA | C3: ACTIVIDAD | D3: META/RESULTADO | E3: ESTA ACTIVIDAD SE REALIZO EL AÑO ANTERIOR | G3: PRESUPUESTO ANUAL | H3: 1ER CUATRIMESTRE | L3: 2DO CUATRIMESTRE | P3: 3ER CUATRIMESTRE | T3: DEVENGADO
E4: SI | F4: NO | H4: ENERO | I4: FEBRERO | J4: MARZO | K4: ABRIL | L4: MAYO | M4: JUNIO | N4: JULIO | O4: AGOSTO | P4: SEPTIEMBRE | Q4: OCTUBRE | R4: NOVIEMBRE | S4: DICIEMBRE
B5: 5.3.07.01 | C5: DESARROLLO, ACTUALIZACIÓN, ASISTENCIA TÉCNICA Y SOPORTE DE SISTEMAS INFORMÁTICOS | D5: 1 Sitio web de COPRODER habilitado y en funciones: plataforma, página web | E5: X | G5: 6138 | N5: 6138 | T5: =+G5-H5-I5-J5-K5-L5-M5-N5-O5-P5-Q5-R5-S5 -> 0
B6: 5.7.03.01 | C6: DIETAS SOCIEDAD CIVIL | D6: 5 representantes de sociedad civil cumplen funcionesal interior del Pleno del COPRODER | E6: X | G6: =3568.8-735 -> 2833.8 | H6: 592.2 | O6: 473.76 | R6: 473.76 | S6: 829.08 | T6: =+G6-H6-I6-J6-K6-L6-M6-N6-O6-P6-Q6-R6-S6 -> 465
B7: 5.3.01.05 | C7: TELECOMUNICACIONES | D7: Un servicio de internet adecuado para la SE | E7: X | G7: 960 | H7: 80 | I7: 80 | J7: 80 | K7: 80 | L7: 80 | M7: 80 | N7: 80 | O7: 100.23 | P7: 49 | Q7: 49 | R7: 58.27 | S7: 58.84 | T7: =+G7-H7-I7-J7-K7-L7-M7-N7-O7-P7-Q7-R7-S7 -> 84.66
B8: 5.3.02.09 | C8: SERVICIO DE ASEO, LIMPIEZAS DE INSTALACIONES | D8: Asegurar un adecuado funcionamiento de la SE | E8: X | G8: 3515 | H8: 395 | I8: 395 | J8: 395 | K8: 395 | L8: 395 | M8: 395 | N8: 395 | O8: 150 | P8: 150 | Q8: 150 | R8: 150 | S8: 150 | T8: =+G8-H8-I8-J8-K8-L8-M8-N8-O8-P8-Q8-R8-S8 -> 0
B9: 5.7.02.03 | C9: COMISIONES BANCARIAS | D9: Asegurar un adecuado funcionamiento de la SE | E9: X | G9: 72 | H9: 6 | I9: 6 | J9: 6 | K9: 6 | L9: 6 | M9: 6 | N9: 6 | O9: 6 | P9: 6 | Q9: 6 | R9: 6 | S9: 6 | T9: =+G9-H9-I9-J9-K9-L9-M9-N9-O9-P9-Q9-R9-S9 -> 0
B10: 5.3.08.04 | C10: MATERIALES DE OFICINA | D10: Asegurar un adecuado funcionamiento de la SE | E10: X | G10: 1500 | M10: 47.16 | O10: 1160.23 | Q10: 20.16 | R10: 63 | T10: =+G10-H10-I10-J10-K10-L10-M10-N10-O10-P10-Q10-R10-S10 -> 209.45 | V10: 1
B11: 5.3.02.05 | C11: ESPECTACULOS CULTURALES Y SOCIALES | D11: Asegurar un adecuado funcionamiento de la SE | E11: X | G11: 2490 | P11: 2474 | T11: =+G11-H11-I11-J11-K11-L11-M11-N11-O11-P11-Q11-R11-S11 -> 16
B12: 5.3.02.07 | C12: DIFUSIÓN, INFORMACIÓN Y PUBLICIDAD | D12: Asegurar un adecuado funcionamiento de la SE | E12: X | G12: 1500 | N12: 1494.08 | T12: =+G12-H12-I12-J12-K12-L12-M12-N12-O12-P12-Q12-R12-S12 -> 5.92
B13: 5.3.08.12 | C13: MATERIALES DIDACTICOS | D13: Asegurar un adecuado funcionamiento de la SE | E13: X | G13: 200 | Q13: 200 | T13: =+G13-H13-I13-J13-K13-L13-M13-N13-O13-P13-Q13-R13-S13 -> 0
B14: 8.4.01.07 | C14: EQUIPOS, SISTEMAS Y PAQUETES INFORMATICOS | D14: Contar con equipos que garanticen el funcionamiento de la SE COPRODER | E14: X | G14: 1120 | P14: 673.55 | R14: 287.5 | T14: =+G14-H14-I14-J14-K14-L14-M14-N14-O14-P14-Q14-R14-S14 -> 158.95
B15: 8.4.01.07 | C15: EQUIPOS, SISTEMAS Y PAQUETES INFORMATICOS | D15: Contar con equipos que garanticen el funcionamiento de la SE COPRODER | E15: X | G15: 180 | P15: 159.1 | T15: =+G15-H15-I15-J15-K15-L15-M15-N15-O15-P15-Q15-R15-S15 -> 20.9
B16: 5.3.02.05 | C16: ESPECTACULOS CULTURALES Y SOCIALES | D16: Contar con equipos que garanticen el funcionamiento de la SE COPRODER | E16: X | G16: 735 | S16: 735 | T16: =+G16-S16 -> 0
B17: 5.3.07.04 | C17: MANTENIMIENTOS INFORMATICOS | D17: Asegurar un adecuado funcionamiento de la SE | E17: X | G17: 1000 | M17: 719.8 | Q17: 110 | T17: =+G17-H17-I17-J17-K17-L17-M17-N17-O17-P17-Q17-R17-S17 -> 170.2
B18: Difusión, información y publicidad
B19: GASTO CORRIENTE | J19: EJECUTADO enero a diciembre | M19: =+#REF!-T19 -> #REF! | R19: Por devengar | T19: =SUM(T5:T18) -> 1131.08

Sheet MATRIZ POA TECNICO
A2: PLAN DE GOBIERNO 2023-2027 | D2: PLAN DE DESARROLLO Y ORDENAMIENTO TERRITORIAL Rumiñahui 2019-2023 (PDyOT) | J2: PLAN ESTRATÉGICO INSTITUCIONAL (PEI) | N2: CLASIFICADORES DE ORIENTACIÓN DE GASTO EN POLÍTICAS DE IGUALDAD Y POLÍTICAS DE AMBIENTE | T2: ALINEACIÓN A LOS ODS | U2: DIRECCION | V2: IDENTIFICACIÓN DEL PROYECTO | X2: Estado proyecto: N= nuevo P= Prorrogado | Y2: IDENTIFICACIÓN DE LA ACTIVIDAD | AE2: MONTO | AI2: RECURSOS POR COMPETENCIAS (CELDAS REFERENCIALES) | AM2: CUENTA CON DOCUMENTOS DE FACTIBILIDAD (LICENCIA AMBIENTAL (SEGÚN CORRESPONDA) | AR2: VARIABLES DE PRIORIZACIÓN | AV2: UBICACIÓN | AZ2: BENEFICIARIOS | BD2: PROGRAMACIÓN FÍSICA | BL2: FECHA ESTIMADA DE CONTRATACIÓN | BR2: PROGRAMACIÓN PRESUPUESTARIA 2023
A3: N° | B3: DESCRIPCIÓN OBJETIVO ESPECIFICO | C3: META DEL OBJETIVO ESTRATÉGICO | D3: COMPONENTE | E3: OBJETIVO | F3: POLÍTICA | G3: INDICADOR | H3: LINEA BASE | I3: META | J3: N° | K3: OBJETIVO ESTRATÉGICO | L3: LINEA BASE 2020 | M3: META 2023 | N3: ORIENTACIÓN DEL GASTO | O3: DIRECCIONAMIENTO DEL GASTO | P3: POLÍTIICA GENERAL(CATEGORÍA) | Q3: POLÍTICA ESPECIFICA (SUB CATEGORÍA) | R3: CODIFICACIÓN POLÍTICAS DE IGUALDAD Y AMBIENTE | S3: POLÍTICA A LA QUE APORTA | V3: PROGRAMA | W3: PROYECTO | Y3: ACTIVIDAD | Z3: ESTRATEGIAS | AA3: SUBACTIVIDADES | AB3: INDICADOR | AC3: LINEA BASE | AD3: Meta/Resultado | AE3: COSTO POR ACTIVIDAD | AF3: DEVENGADOS | AG3: SALDOS | AH3: RESPONSABLES | AI3: ART. 249 COOTAD - GRUPOS PRIORITARIOS | AJ3: PRESUPUESTO PARTICIPATIVO 2023 | AK3: ASIGNACIÓN COMPETENCIA PATRIMONIO CULTURAL 2023 | AL3: ASIGNACIÓN COMPETENCIA TRANSPORTE 2023 | AM3: CUENTA CON ESTUDIOS | AN3: CUENTA CON PERMISO AMBIENTAL | AQ3: CUENTA CON CERTIFICACIÓN DE RIESGOS | AR3: 1 - COMPROMISOS ADQUIRIDOS - OBLIGACIONES LEGALES PENDIENTES | AS3: 2 - NECESIDADES QUE GENERAN IMPACTO EN EL CUMPLIMIENTO DE LA PLANIFICACIÓN ESTRATEGICA Y SUS OBJETIVOS | AT3: 3 - NECESIDADES QUE PUEDEN SER APLAZADAS | AU3: EN EL CASO DE NO EJECUTAR EL PROYECTO/ACTIVIDAD QUE PASARÍA | AV3: PARROQUIA | AW3: BARRIO | AX3: COORDENADAS X | AY3: COORDENADAS Y | AZ3: # de Beneficiarios directos | BA3: # de Beneficiarios indirectos | BB3: # de Beneficiarios Vulnerables | BC3: RESPONSABLE | BD3: 2023 | BE3: 2024 | BF3: FECHA DE INICIO | BG3: FECHA DE FIN | BH3: I | BI3: II | BJ3: III | BK3: IV | BL3: TIEMPO DE CONTRATACIÓN EN MESES | BM3: FECHA DE INICIO | BN3: FECHA DE FIN | BO3: I | BP3: II | BQ3: III | BR3: 2023 | BS3: 2024 | BT3: ENERO | BU3: FEBRERO | BV3: MARZO | BW3: ABRIL | BX3: MAYO | BY3: JUNIO | BZ3: JULIO | CA3: AGOSTO | CB3: SEPTIEMBRE | CC3: OCTUBRE | CD3: NOVIEMBRE | CE3: DICIEMBRE | CF3: TOTAL
AN4: SI | AO4: NO | AP4: FECHA DE PERMISO | BT4: DEVENGADO PRORROGADO | BY4: PROYECCIÓN DEVENGADO
A5: 9 | B5: Lograr la actoria social de grupos de atención prioritaria | C5: Impulsar la aplicación de una ar la Ordenanza q insentive a serctores urbanos y rurales del Cantón para ser parte activa de los diferentes mecanismos de Participación Ciudadana: Consejos consultivos, audiencias públicas, presupuestos participados, asambleas ciudadanas, silla vacia, cabildos populares, de tal manera q se insida, aporte, genere políticas públicas locales hacia los grupos de atención prioritaria | D5: Componente Sociocultural | E5: Aportar en el fortalecimiento de políticas públicas integrales, que promuevan la igualdad de oportunidades y la promoción de derechos con énfasis en los grupos prioritarios y vulnerables. | F5: Transversalizar los enfoques de Igualdad en la gestión municipal para mejorar las condiciones de los grupos prioritarios y vulnerables del cantón. | G5: Porcentaje de cobertura incrementada por período de gestión para grupos de atención prioritaria y población en situación de movilidad humana. | H5: 1,15% de personas de los grupos de atención prioritaria atendidos. | I5: Incrementar el 4% en la cobertura de atención a grupos de atención prioritaria hasta el año 2024. | J5: OE2 | K5: Incrementar la calidad de los servicios municipales brindados por el GADMUR | L5: 5.92 | M5: 8.5 | N5: Políticas de Igualdad | O5: Infancia, niñez y adolescencia | P5: Incorporar a los niños, niñas y adolescentes como acyores clave en el diseño e implementación de las políticas, programas y proyectos. | Q5: Incorporar a los niños, niñas y adolescentes como acyores clave en el diseño e implementación de las políticas, programas y proyectos. | R5: 01.05.05 | S5: Participación | T5: 5.- Igualdad de género | U5: COPRODER | V5: Protección, garantía de derechos e inclusión social para grupos de atención prioritaria. | W5: Asistencia humanitaria para grupos de atención prioritaria y población en situación de movilidad humana. | X5: P | Y5: Asignación COPRODER | Z5: Fortalecimiento institucional | AA5: Sensibilizar, capacitar y promover la participación activa del Pleno del COPRODER, en la toma de decisiones. | AB5: 1 consejo de Derechos conformado; sociedad civil y sector público. 1 secretaría ejecutiva funcionando en un 50%. | AC5: 1 Diagnóstico De Condiciones De Vida De La Población En Contexto De Movilidad Humana, 2021 4 Espacios técnicos de coordinación. 5 profesionales parte de la Secretaría ejecutiva | AD5: 1 Pleno del Consejo de Derechos articulado, organizado y en ejercicio de sus atribuciones conforme establece la Ordenanza 006-2014 del Sistema de Protección Integral. Secretaría ejecutiva, implementa las decisiones del pleno de forma eficiente y oportuna, al menos en un 50%. | AE5: PROCESO TÉCNICO | AF5: 0 | AG5: 0 | AH5: Carla Acosta Cristina Carrasco Fernanda Ortiz Saraí ushiña | AI5: SI | AJ5: NA | AK5: NA | AL5: NA | AM5: SI | AN5: NA | AO5: NA | AP5: NA | AQ5: NA | AR5: NA | AS5: SI | AT5: NA | AU5: Sanción por incumplimiento de la Normativa nacional y funciones del GADMUR | AV5: Sangolquí San Rafael Cotogchoa Fajardo San Pedro de T Rumipamba | AW5: Todos los barrios | AX5: 784205 | AY5: 9963523 | AZ5: 44.244 | BA5: 10000 | BB5: 1000 | BC5: Msc CarlaAcosta/Saraí Ushiña | BD5: X | BE5: NA | BF5: 45082 | BG5: 45291 | BL5: 6 meses | BM5: 45110 | BN5: 45291 | BO5: NA | BP5: NA | BQ5: NA | BR5: X | BS5: NA | BT5: 9748.29 | BU5: 9748.29 | BV5: 9748.29 | BW5: 9748.29 | BX5: 9748.29 | BY5: 15258.51 | BZ5: 10666.66 | CA5: 10666.66 | CB5: 10666.66 | CC5: 10666.7 | CD5: 10666.66 | CE5: 10666.7 | CF5: =SUM(BT5:CE5) -> 128000
AA6: Garantizar el acceso a la información y transparencia a la gestión | AB6: # de procesos de transparencia y rendición de cuentas institucional. | AC6: 1 proceso de RC-2022 Finalizado. | AD6: 1 proceso de cumplimiento de al LOTAIP 1 matriz de acceso de información | AE6: PROCESO TÉCNICO | AF6: 0 | AG6: 0 | AH6: Saraí Ushiña Francis Salazar Fernanda Ortiz | AI6: SI | AJ6: NA | AK6: NA | AL6: NA | AM6: SI | AN6: NA | AO6: NA | AP6: NA | AQ6: NA | AR6: NA | AS6: SI | AT6: NA | AU6: Sanción por incumplimiento de la Normativa nacional y funciones del GADMUR | AV6: Sangolquí San Rafael Cotogchoa Fajardo San Pedro de T Rumipamba | AW6: Todos los barrios
AA7: Elaborar documentos normativos y procedimientos necesarios para el adecuado funcionamiento técnico y administrativo de la Secretaría Ejecutiva. | AB7: 1 Ordenanza actualizada 006-2014 del SIPIDER. (2023) 1 Estatuto Orgánico actualizado (2024) 1 Manual de Puesto (2024) 1 Reglamento interno de TTHH (2024) | AC7: 1 Ordenanza 2014-SIPIDER desactualizada 1 Estatuto aprobado al 2020 1 Manual de puestos preliminar 1 Reglamento del COPRODER 2014 1 Metodología de observancia 2019/2020 1 documento de imagen institucional 2022. 1 Plan de comunicación. | AD7: 1 Ordenanza actualizada 2023. 1 Plan de Comunicación 2023- 2027 (Incluye manual marca) | AE7: PROCESO TÉCNICO | AF7: 0 | AG7: 0 | AH7: Carla Acosta Fernanda Ortiz (TH) Cristina Carrasco Marco Ayala | AI7: SI | AJ7: NA | AK7: NA | AL7: NA | AM7: SI | AN7: NA | AO7: NA | AP7: NA | AQ7: NA | AR7: NA | AS7: SI | AT7: NA | AU7: Sanción por incumplimiento de la Normativa nacional y funciones del GADMUR | AV7: Sangolquí San Rafael Cotogchoa Fajardo San Pedro de T Rumipamba | AW7: Todos los barrios
Z8: Participación y actoria social | AA8: Espacios de recreación y promoción de derechos de niñez | AB8: 1 grupo de niños participa de espacios lúdicos en temporada vacacional # de niños participantes | AC8: 1 grupo de adolescentes 2022 25 adolescentes 2022 | AD8: 3 grupos conformados: Sangolqui, San Pedro e Inchalillo (vacacionales) 460 niños y niñas | AE8: PROCESO TÉCNICO | AF8: 0 | AG8: 0 | AH8: Paulina Topón | AI8: SI | AJ8: NA | AK8: NA | AL8: NA | AM8: SI | AN8: NA | AO8: NA | AP8: NA | AQ8: NA | AR8: NA | AS8: SI | AT8: NA | AU8: Sanción por incumplimiento de la Normativa nacional y funciones del GADMUR | AV8: Sangolquí San Rafael Cotogchoa Fajardo San Pedro de T Rumipamba | AW8: Todos los barrios
AB9: # jornadas de sensibilización y promoción de derechos de NN. # de participantes # de instituciones educativas | AC9: 1 Proceso Jugar es Proteger con NN de 3 a 4 años 800 NN sensibilizados en prevención de violencia AMPETRA (Iniciales y primaria) | AD9: 1 proceso de promoción de derechos 3 jornadas de sensibilización. (Cuidemonos Rumiñahui-fiestas) # de participantes # de instituciones educativas | AE9: 1068.4 | AF9: 1060 | AG9: =+AE9-AF9 -> 8.4 | AH9: Saraí Ushiña | AI9: SI | AJ9: NA | AK9: NA | AL9: NA | AM9: SI | AN9: NA | AO9: NA | AP9: NA | AQ9: NA | AR9: NA | AS9: SI | AT9: NA | AU9: Sanción por incumplimiento de la Normativa nacional y funciones del GADMUR | AV9: Sangolquí San Rafael Cotogchoa Fajardo San Pedro de T Rumipamba | AW9: Todos los barrios
AA10: Promover la actoría, participación con adolescentes. | AB10: # de adolescentes participantes # de unidades educativas participantes # de representantes | AC10: 1 proyecto de participación estudiantil 2022-UEMDG 1 alianza de cooperación con los DECEs Distrital. 1 Consejo Consultivo de adolescentes conformado 800 NNA sensibilizados en prevención de violencia AMPETRA 4 Unidades educativas coordinan con COPRODER; UEJM, UEMDG, UEJS, AMPETRA. | AD10: 1 grupo de adolescentes identificado. 1 metodología implementandose con enfoque de derechos a través de herramientas educomunicacionales. | AE10: 1750 | AF10: 1750 | AG10: =+AE10-AF10 -> 0 | AH10: Paulina Topón | AI10: SI | AJ10: NA | AK10: NA | AL10: NA | AM10: SI | AN10: NA | AO10: NA | AP10: NA | AQ10: NA | AR10: NA | AS10: SI | AT10: NA | AU10: Sanción por incumplimiento de la Normativa nacional y funciones del GADMUR | AV10: Sangolquí San Rafael Cotogchoa Fajardo San Pedro de T Rumipamba | AW10: Todos los barrios
AA11: Promoción de derechos de personas adultas mayores, en la familia y comunidad. | AB11: # de grupos de personas adultas mayores activos. # total de PAM participantes. # de familias sensibilizadas. # de instituciones aliadas | AC11: 5 grupo de PAM; fajardo, Cashapamba, Curipungo, Jatumpungo, Loreto. 2022 100 PAM parte de los procesos 2022 1 alianza con el Centro de Salud, 2022 | AD11: 2 grupos participan del segundo momento. 2 alianzas institucionales 20 familias sensibilizadas (Fajardo y Loreto) | AE11: 714.28 | AF11: 714 | AG11: =+AE11-AF11 -> 0.28 | AH11: Fernanda Ortiz | AI11: SI | AJ11: NA | AK11: NA | AL11: NA | AM11: SI | AN11: NA | AO11: NA | AP11: NA | AQ11: NA | AR11: NA | AS11: SI | AT11: NA | AU11: Sanción por incumplimiento de la Normativa nacional y funciones del GADMUR | AV11: Sangolquí San Rafael Cotogchoa Fajardo San Pedro de T Rumipamba | AW11: Todos los barrios
AA12: Promoción, atención, protección de derechos de personas con discapacidad e inclusión integral. | AB12: # de empresas sensibilizadas/Distintivo Igualdad e Inclsuión # de personas con discapacidad participantes de los procesos # de personas cuidadoras sensibilizadas y capacitadas. | AC12: 3 empresas sensibilizadas en derechos de PCD e inclusión laboral. 20 personas con discapacidad sensibilizadas a través de arte.terapia. 15 cuidadoras sensibilizadas en derechos humanos, | AD12: 3 empresas fortalecen conocimientos en DDHH. (CONTINUIDAD) 10 empresas postulan al proceso Disntintivo Igualdad e Inclusión 20 personas con discapacidad sensibilizadas a través de metodologías participativas y lúdicas. 15 personas cuidadoras sensibilizadas en derechos. | AE12: PROCESO TÉCNICO | AF12: 0 | AG12: 0 | AH12: Saraí Ushiña Cristina Carrasco | AI12: SI | AJ12: NA | AK12: NA | AL12: NA | AM12: SI | AN12: NA | AO12: NA | AP12: NA | AQ12: NA | AR12: NA | AS12: SI | AT12: NA | AU12: Sanción por incumplimiento de la Normativa nacional y funciones del GADMUR | AV12: Sangolquí San Rafael Cotogchoa Fajardo San Pedro de T Rumipamba | AW12: Todos los barrios
AA13: Promoción de derechos y prevención de la violencia de género, en Mujeres. | AB13: 1 grupo de mujeres promotoras de derechos con conocimiento en temáticas de prevención de la violencia de género, autoestima y autocuidado. # sensibilizaciones comunitarias de prevención de la violencia de género en el territorio urbano y rural del cantón. | AC13: 1 Asociación de mujeres promotoras de derechos del Cantón Rumiñahui 20 instituciones forman parte del SIPIDER. (CEPAM, Servicio de Protección Integral, SAFC- Programa la Ribera) Rumiñahui FM y Social Media. 20 mujeres emprendedoras del proyecto “TEJIENDO CAMBIOS”. 2 aliados parroquiales públicos-GAD Parroquial de Cotogchoa y Rumipamba. 2 aliados académicos UISEK, ISTER | AD13: 1 grupo de promotoras de derechos con conocimiento en temáticas de prevención de la violencia de género, autoestima y autocuidado coordina con el COPRODER y SIPIDER | AE13: 500 | AF13: 500 | AG13: =+AE13-AF13 -> 0 | AH13: Francis Salazar | AI13: SI | AJ13: NA | AK13: NA | AL13: NA | AM13: SI | AN13: NA | AO13: NA | AP13: NA | AQ13: NA | AR13: NA | AS13: SI | AT13: NA | AU13: Sanción por incumplimiento de la Normativa nacional y funciones del GADMUR | AV13: Sangolquí San Rafael Cotogchoa Fajardo San Pedro de T Rumipamba | AW13: Todos los barrios
Z14: Incidencia política y articulación intersectorial | AA14: Sostenibilidad, fortalecimiento y articulación de espacios técnicos interinstitucionales e intersectoriales. | AB14: 1 Mesa Técnica de Prevención de ETI y Mendicidad activa. | AC14: 1 Mesa Técnica de PETI 1 Mesa Técnica de Prevención de la Mendicidad 1 Plan de Acción Anual a ser actualizado 4 instituciones participantes | AD14: 1 Mesa Técnica de PETI y Mendicidad activa. 1 Plan de acción actualizado e implementado 90% 12 instituciones participan activamente. | AE14: PROCESO TÉCNICO | AF14: 0 | AG14: 0 | AH14: Carla Acosta Paulina Topón Cristina Carraso | AI14: SI | AJ14: NA | AK14: NA | AL14: NA | AM14: SI | AN14: NA | AO14: NA | AP14: NA | AQ14: NA | AR14: NA | AS14: SI | AT14: NA | AU14: Sanción por incumplimiento de la Normativa nacional y funciones del GADMUR | AV14: Sangolquí San Rafael Cotogchoa Fajardo San Pedro de T Rumipamba | AW14: Todos los barrios
AB15: 1 Mesa Técnica de Canalización de casos activa. | AC15: 1 Mesa Técnica de Canalización de casos. | AD15: 1 Metodología de análisis de casos, instrumentos. | AE15: PROCESO TÉCNICO | AF15: 0 | AG15: 0 | AH15: Carla Acosta Saraí Ushiña Cristina Carrasco | AI15: SI | AJ15: NA | AK15: NA | AL15: NA | AM15: SI | AN15: NA | AO15: NA | AP15: NA | AQ15: NA | AR15: NA | AS15: SI | AT15: NA | AU15: Sanción por incumplimiento de la Normativa nacional y funciones del GADMUR | AV15: Sangolquí San Rafael Cotogchoa Fajardo San Pedro de T Rumipamba | AW15: Todos los barrios
AB16: 1 Red de Movilidad Humana conformada. 1 planificación insterinstitucional | AC16: 1 Red de movilidad humana en proceso de conformación 1 planificación en construcción | AD16: 1 Red de Movilidad Humana activa se reune periodicamente. 1 planificación insterinstitucional implementada en un 50% | AE16: PROCESO TÉCNICO | AF16: 0 | AG16: 0 | AH16: Carla Acosta Saraí Ushiña Cristina Carrasco | AI16: SI | AJ16: NA | AK16: NA | AL16: NA | AM16: SI | AN16: NA | AO16: NA | AP16: NA | AQ16: NA | AR16: NA | AS16: SI | AT16: NA | AU16: Sanción por incumplimiento de la Normativa nacional y funciones del GADMUR | AV16: Sangolquí San Rafael Cotogchoa Fajardo San Pedro de T Rumipamba | AW16: Todos los barrios
AB17: 1 Red de Protección 1 Mesa Intersectorial de Discapacidades 1 Mesa Intersectorial de Prevención de Desnutrición Infantil | AC17: 1 Red de protección del valle de los chillos 1 Mesa técnica Distrito Metropolitana de Quito (ETI) 1 Mesa intersectorial de Discapacidades 1 Mesa intersectorial de prevención de la desnutrición infantil, en conformación. 1 Mesa de Prevención de embarazpo adolescente. | AD17: 1 Red de protección del valle articula con la Mesa del DMQ, (planificación). 1 Mesa intersectorial de Discapacidades coordina en el territorio. 1 Mesa intersectorial de prevención de la desnutrición, activa con enfoque de derechos. 1 Mesa 4 de Alojamiento temporales-COE | AE17: PROCESO TÉCNICO | AF17: 0 | AG17: 0 | AH17: Carla Acosta Saraí Ushiña Cristina Carrasco Paulina Topón | AI17: SI | AJ17: NA | AK17: NA | AL17: NA | AM17: SI | AN17: NA | AO17: NA | AP17: NA | AQ17: NA | AR17: NA | AS17: SI | AT17: NA | AU17: Sanción por incumplimiento de la Normativa nacional y funciones del GADMUR | AV17: Sangolquí San Rafael Cotogchoa Fajardo San Pedro de T Rumipamba | AW17: Todos los barrios
AB18: 2 Informes de Violencia contra las mujeres. 1 documento/presentación al SIPIDER | AC18: 1 Informe cuatrimestral de la JCPD de NNA 1 Informe cuatrimetsral de la JCPD de PAM 4 reportes de enero a abril 2023 del RUV | AD18: 6 reuniones de monitoreo y seguimiento con la JCPD. 6 Informes de seguimiento de NNA 6 Informes de seguimiento de PAM 2 informes de seguimiento de MVV 2 informes comunicacionales | AE18: PROCESO TÉCNICO | AF18: 0 | AG18: 0 | AH18: Saraí Ushiña Marco Ayala | AI18: SI | AJ18: NA | AK18: NA | AL18: NA | AM18: SI | AN18: NA | AO18: NA | AP18: NA | AQ18: NA | AR18: NA | AS18: SI | AT18: NA | AU18: Sanción por incumplimiento de la Normativa nacional y funciones del GADMUR | AV18: Sangolquí San Rafael Cotogchoa Fajardo San Pedro de T Rumipamba | AW18: Todos los barrios
AB19: # de informes de monitoreo y seguimiento en la atención, protección y restitución de derechos de mujeres víctimas de violencia | AC19: 1 informe de atención y protección de derechos a mujeres víctimas de violencia. (2022 2 semestre-SIPIDER) | AD19: 2 Informes de Violencia contra las mujeres. 1 documento/presentación al SIPIDER | AE19: PROCESO TÉCNICO | AF19: 0 | AG19: 0 | AH19: Saraí Ushiña Marco Ayala | AI19: SI | AJ19: NA | AK19: NA | AL19: NA | AM19: SI | AN19: NA | AO19: NA | AP19: NA | AQ19: NA | AR19: NA | AS19: SI | AT19: NA | AU19: Sanción por incumplimiento de la Normativa nacional y funciones del GADMUR | AV19: Sangolquí San Rafael Cotogchoa Fajardo San Pedro de T Rumipamba | AW19: Todos los barrios
AB20: # de informes de observancia de PPL | AC20: 1 borrador de Informe preliminar de Observancia de la JCPD-2021 1 Metodología de Observancia | AD20: 1 Informe de observancia a la protección de derechos a través de la JCPD | AE20: PROCESO TÉCNICO | AF20: 0 | AG20: 0 | AH20: Paulina Topón Carla Acosta Saraí Ushiña | AI20: SI | AJ20: NA | AK20: NA | AL20: NA | AM20: SI | AN20: NA | AO20: NA | AP20: NA | AQ20: NA | AR20: NA | AS20: SI | AT20: NA | AU20: Sanción por incumplimiento de la Normativa nacional y funciones del GADMUR | AV20: Sangolquí San Rafael Cotogchoa Fajardo San Pedro de T Rumipamba | AW20: Todos los barrios
AB21: # de alianzas estratégicas establecidas, para fortalecer el quehacer institucional del COPRODER. | AC21: 12 acuerdos y convenios firmados, vencidos, sin cumplimiento. | AD21: 9 convenios se sostienen y dan continuidad. 2 convenios/acuerdos y cartas de entendimiento nuevos, fortalecen el quehacer institucional, ejecutandose paritariamente por las partes. | AE21: PROCESO TÉCNICO | AF21: 0 | AG21: 0 | AH21: Todo el equipo tendrá responsabilidades para el cumplimiento de lo dispuesto en los convenios | AI21: SI | AJ21: NA | AK21: NA | AL21: NA | AM21: SI | AN21: NA | AO21: NA | AP21: NA | AQ21: NA | AR21: NA | AS21: SI | AT21: NA | AU21: Sanción por incumplimiento de la Normativa nacional y funciones del GADMUR | AV21: Sangolquí San Rafael Cotogchoa Fajardo San Pedro de T Rumipamba | AW21: Todos los barrios
AA22: Fortalecimiento e institucionalización de la Junta de Protección de derechos. | AB22: 1 Protocolo de actuación: Hoja de Ruta e instrumentos técnicos de denuncia. | AC22: 1 Estatuto del GADMUR 1 Reglamento interno de funcionamiento de la JCPD | AD22: 1 protocolo de actuación que incluye; hoja de ruta de coordinación: formato de denuncia de MVV, PAM, NNA actualizado y formato de informe de recepción de casos. | AE22: PROCESO TÉCNICO | AF22: 0 | AG22: 0 | AH22: Carla Acosta Saraí Ushiña Cristina Carrasco | AI22: SI | AJ22: NA | AK22: NA | AL22: NA | AM22: SI | AN22: NA | AO22: NA | AP22: NA | AQ22: NA | AR22: NA | AS22: SI | AT22: NA | AU22: Sanción por incumplimiento de la Normativa nacional y funciones del GADMUR | AV22: Sangolquí San Rafael Cotogchoa Fajardo San Pedro de T Rumipamba | AW22: Todos los barrios
AB23: 1 proceso de capacitación en el marco de rol y funciones de la JCPD . | AC23: 1 jornada de intercambio de experiencias con la Junta Quitumbe y Centro- Quito 1 jornda de capacitación en medidas de protección de NNA y PAM , ejecutado por CNII 1 asistencia técnica con Dra. Patricia Calero. 2 jornadas de capacitación en primeros auxilios psicológicos y prevención del burnout-OIM | AD23: 1 proceso de capacitación, que mejore el desempeño de la JCPD, en la acogida, recepción, avocatoria, audiencia y resolución de medidas de protección a MVV, PAM y NNA, con enfoque de discapacidades y movilidad humana. | AE23: 1680 | AF23: =+AE23 -> 1680 | AG23: =+AF23-AF23 -> 0 | AH23: Carla Acosta Saraí Ushiña Cristina Carrasco | AI23: SI | AJ23: NA | AK23: NA | AL23: NA | AM23: SI | AN23: NA | AO23: NA | AP23: NA | AQ23: NA | AR23: NA | AS23: SI | AT23: NA | AU23: Sanción por incumplimiento de la Normativa nacional y funciones del GADMUR | AV23: Sangolquí San Rafael Cotogchoa Fajardo San Pedro de T Rumipamba | AW23: Todos los barrios
AA24: Capacitación y acompañamiento técnico al Sistema de Protección de Derechos. | AB24: 2 Procesos de sensibilización y capacitación con enfoque de derechos a funcionarios municipales | AC24: 35 docentes de los CMEI sensibilizados en Identificación de violencia y metodología Waldorf-2022 | AD24: 1 proceso de capacitación en Masculinidades y prevención de violencia # de funcionarios capacitados. 1 proceso de sensibilización en derechos de PCD y accesibilidad. # de directivos y jefaturas sensibilizados | AE24: 4073 | AF24: =2714.88+1357.44 -> 4072.32 | AG24: =+AE24-AF24 -> 0.68 | AH24: Francis Salazar Saraí Ushiña Carla Acosta Cristina Carrasco | AI24: SI | AJ24: NA | AK24: NA | AL24: NA | AM24: SI | AN24: NA | AO24: NA | AP24: NA | AQ24: NA | AR24: NA | AS24: SI | AT24: NA | AU24: Sanción por incumplimiento de la Normativa nacional y funciones del GADMUR | AV24: Sangolquí San Rafael Cotogchoa Fajardo San Pedro de T Rumipamba | AW24: Todos los barrios
AB25: # de jornadas de capactación | AC25: 2 Jornadas de capacitación ejecutadas en alianza con OIM | AD25: 3 jornadas de capacitación con el Sistema de Protección de Derechos, enfoques de igualdad.(UJM/SJR/CNI). | AE25: PROCESO TÉCNICO | AF25: 0 | AG25: 0 | AH25: Saraí Ushiña Cristica Carrasco | AI25: SI | AJ25: NA | AK25: NA | AL25: NA | AM25: SI | AN25: NA | AO25: NA | AP25: NA | AQ25: NA | AR25: NA | AS25: SI | AT25: NA | AU25: Sanción por incumplimiento de la Normativa nacional y funciones del GADMUR | AV25: Sangolquí San Rafael Cotogchoa Fajardo San Pedro de T Rumipamba | AW25: Todos los barrios
AA26: Coordinar la presencia de la institucionalidad pública y privada en el territorio, con énfasis en lo rural. | AB26: # de jornadas de sensibilización en Cotogchoa y Rumipamba | AC26: 1 Callejón de Derechos 2021 -Cotogchoa 1 feria de emprendimientos y servicios locales en el marco 08 de marzo 2 cines foros a nivel cantonal para promoción de derechos y prevención de violencia (Loreto, Cotogchoa y Sangolquí) 1 marcha por el 8 de marzo en calles internas de Sangolquí | AD26: 5 jornadas de sensibilización comunitaria a través de Cineforos, juegos y espacios culturales. 4 espacios comunitarios de promoción de derechos (ferias) | AE26: PROCESO TÉCNICO | AF26: 0 | AG26: 0 | AH26: Todo el equipo, se determinará responsables para cada zona seleccionada | AI26: SI | AJ26: NA | AK26: NA | AL26: NA | AM26: SI | AN26: NA | AO26: NA | AP26: NA | AQ26: NA | AR26: NA | AS26: SI | AT26: NA | AU26: Sanción por incumplimiento de la Normativa nacional y funciones del GADMUR | AV26: Sangolquí San Rafael Cotogchoa Fajardo San Pedro de T Rumipamba | AW26: Todos los barrios
AD27: 21 dias de activismo | AE27: 3500 | AF27: 3416.2 | AG27: =+AE27-AF27 -> 83.8 | AH27: Todo el equipo, se determinará responsables para cada zona seleccionada | AI27: SI | AJ27: NA | AK27: NA | AL27: NA | AM27: SI | AN27: NA | AO27: NA | AP27: NA | AQ27: NA | AR27: NA | AS27: SI | AT27: NA | AU27: Sanción por incumplimiento de la Normativa nacional y funciones del GADMUR | AV27: Sangolquí San Rafael Cotogchoa Fajardo San Pedro de T Rumipamba | AW27: Todos los barrios
Z28: Edu-comunicación | AA28: Posicionamiento del COPRODER, a través de estrategias digitales | AB28: # Métricas digitales | AC28: Un alcance de 6975 página 2839 seguidores 2611 Me Gusta | AD28: Un alcance de 10.000 4.000 seguidores 4.000 me gustan | AE28: PROCESO TÉCNICO | AF28: 0 | AG28: 0 | AH28: Marco Ayala Francis Salazar | AI28: SI | AJ28: NA | AK28: NA | AL28: NA | AM28: SI | AN28: NA | AO28: NA | AP28: NA | AQ28: NA | AR28: NA | AS28: SI | AT28: NA | AU28: Sanción por incumplimiento de la Normativa nacional y funciones del GADMUR | AV28: Sangolquí San Rafael Cotogchoa Fajardo San Pedro de T Rumipamba | AW28: Todos los barrios
AA29: Coordinar la participación, y formación de reporteros comunitarios (Etapa 1) | AB29: # de actores mapeados # de personas formadas | AC29: 1 alianza con Rumiñahui FM 1 alianza con D.P.C GADMUR 1 grupo juventud al aire. 1 grupo de adolescentes UEJM | AD29: 20 representantes de GAP 8 personas formadas. | AE29: PROCESO TÉCNICO | AF29: 0 | AG29: 0 | AH29: Marco Ayala Francis Salazar | AI29: SI | AJ29: NA | AK29: NA | AL29: NA | AM29: SI | AN29: NA | AO29: NA | AP29: NA | AQ29: NA | AR29: NA | AS29: SI | AT29: NA | AU29: Sanción por incumplimiento de la Normativa nacional y funciones del GADMUR | AV29: Sangolquí San Rafael Cotogchoa Fajardo San Pedro de T Rumipamba | AW29: Todos los barrios
AA30: Campañas de promoción de derechos a nivel cantonal | AB30: 3 campañas de promoción: a) ETI y Mendicidad b) Protección de NNA en espectáculos públicos: toros c) Masculinidades # informe de alcance de las campañas. | AC30: 1 campaña de ETI y Mendicidad 2022 1 Campaña en el marco del 8 de marzo, Rumiñahui Mujeres Presentes. | AD30: 3 campañas implementadas 2 informes de resultados/alcance. | AE30: PROCESO TÉCNICO | AF30: 0 | AG30: 0 | AH30: Marco Ayala Francis Salazar Saraí Ushiña | AI30: SI | AJ30: NA | AK30: NA | AL30: NA | AM30: SI | AN30: NA | AO30: NA | AP30: NA | AQ30: NA | AR30: NA | AS30: SI | AT30: NA | AU30: Sanción por incumplimiento de la Normativa nacional y funciones del GADMUR | AV30: Sangolquí San Rafael Cotogchoa Fajardo San Pedro de T Rumipamba | AW30: Todos los barrios
AA31: Producción audiovisual de los servicios parte del Sitema de Protección Integral. | AB31: 10 videos promocionales 10 servicios visibilizados | AC31: 0 videos promocionales 0 servicios visibilzados | AD31: 10 videos promocionales (spots) 10 servicios visibilizados | AE31: PROCESO TÉCNICO | AF31: 0 | AG31: 0 | AH31: Marco Ayala Francis Salazar Fernanda Ortiz | AI31: SI | AJ31: NA | AK31: NA | AL31: NA | AM31: SI | AN31: NA | AO31: NA | AP31: NA | AQ31: NA | AR31: NA | AS31: SI | AT31: NA | AU31: Sanción por incumplimiento de la Normativa nacional y funciones del GADMUR | AV31: Sangolquí San Rafael Cotogchoa Fajardo San Pedro de T Rumipamba | AW31: Todos los barrios
AA32: Reconocimiento del COPRODER en la comunidad. | AB32: # de usuarios encuestados % de personas que conocen al COPRODER | AC32: 0 (cero) | AD32: 300 personas 6 parroquias | AE32: PROCESO TÉCNICO | AF32: 0 | AG32: 0 | AH32: Marco Ayala Francis Salazar Apoyo de todo el equipo | AI32: SI | AJ32: NA | AK32: NA | AL32: NA | AM32: SI | AN32: NA | AO32: NA | AP32: NA | AQ32: NA | AR32: NA | AS32: SI | AT32: NA | AU32: Sanción por incumplimiento de la Normativa nacional y funciones del GADMUR | AV32: Sangolquí San Rafael Cotogchoa Fajardo San Pedro de T Rumipamba | AW32: Todos los barrios
AB33: # de instituciones encuestadas % de personas que conocen el función/rol del COPRODER | AC33: 0 (cero) | AD33: 30 instituciones públicas y privadas | AE33: PROCESO TÉCNICO | AF33: 0 | AG33: 0 | AH33: Marco Ayala Francis Salazar Apoyo de todo el equipo | AI33: SI | AJ33: NA | AK33: NA | AL33: NA | AM33: SI | AN33: NA | AO33: NA | AP33: NA | AQ33: NA | AR33: NA | AS33: SI | AT33: NA | AU33: Sanción por incumplimiento de la Normativa nacional y funciones del GADMUR | AV33: Sangolquí San Rafael Cotogchoa Fajardo San Pedro de T Rumipamba | AW33: Todos los barrios
AB34: 1 Aula de capacitación virtual accesible y amigable | AC34: 1 plataforma de capacitación a actualizar. | AD34: 1 Curso creado. 1 proceso de actualización de la plataforma: Cursos - módulos. | AE34: PROCESO TÉCNICO | AF34: 0 | AG34: 0 | AH34: Marco Ayala Francis Salazar Apoyo de todo el equipo | AI34: SI | AJ34: NA | AK34: NA | AL34: NA | AM34: SI | AN34: NA | AO34: NA | AP34: NA | AQ34: NA | AR34: NA | AS34: SI | AT34: NA | AU34: Sanción por incumplimiento de la Normativa nacional y funciones del GADMUR | AV34: Sangolquí San Rafael Cotogchoa Fajardo San Pedro de T Rumipamba | AW34: Todos los barrios
AB35: # de procesos de posicionamiento del COPRODER. | AC35: 0 cero procesos de promoción del COPRODER. | AD35: 1 proceso de posicionamiento del COPRODER. | AE35: 3586 | AF35: 3585.6 | AG35: =+AE35-AF35 -> 0.4 | AH35: Marco Ayala Francis Salazar Apoyo de todo el equipo | AI35: SI | AJ35: NA | AK35: NA | AL35: NA | AM35: SI | AN35: NA | AO35: NA | AP35: NA | AQ35: NA | AR35: NA | AS35: SI | AT35: NA | AU35: Sanción por incumplimiento de la Normativa nacional y funciones del GADMUR | AV35: Sangolquí San Rafael Cotogchoa Fajardo San Pedro de T Rumipamba | AW35: Todos los barrios
A36: 10 | B36: Lograr la actoria social de grupos de atención prioritaria | C36: Impulsar la aplicación de una ar la Ordenanza q insentive a serctores urbanos y rurales del Cantón para ser parte activa de los diferentes mecanismos de Participación Ciudadana: Consejos consultivos, audiencias públicas, presupuestos participados, asambleas ciudadanas, silla vacia, cabildos populares, de tal manera q se insida, aporte, genere políticas públicas locales hacia los grupos de atención prioritaria | D36: Componente Sociocultural | E36: Aportar en el fortalecimiento de políticas públicas integrales, que promuevan la igualdad de oportunidades y la promoción de derechos con énfasis en los grupos prioritarios y vulnerables. | F36: Transversalizar los enfoques de Igualdad en la gestión municipal para mejorar las condiciones de los grupos prioritarios y vulnerables del cantón. | G36: Porcentaje de cobertura incrementada por período de gestión para grupos de atención prioritaria y población en situación de movilidad humana. | H36: 1,15% de personas de los grupos de atención prioritaria atendidos. | I36: Incrementar el 4% en la cobertura de atención a grupos de atención prioritaria hasta el año 2024. | J36: OE3 | K36: Incrementar la calidad de los servicios municipales brindados por el GADMUR | L36: 5.92 | M36: 8.5 | N36: Políticas de Igualdad | O36: Género | P36: Promoción y garantía del derecho a la participación social, política y ejercicio de la ciudadanía. | Q36: Promoción y garantía del derecho a la participación social, política y ejercicio de la ciudadanía. | R36: 01.02.04 | S36: Poder y toma de decisiones | T36: 5.- Igualdad de género | U36: COPRODER | V36: Protección, garantía de derechos e inclusión social para grupos de atención prioritaria. | W36: Promoción de derechos y prevención de la violencia y discriminación de los grupos de atención prioritaria. | X36: N | Y36: Asignación COPRODER- Contratación de servicios profesionales para la promoción y prevención de derechos de los grupos de atención prioritaria del cantón Rumiñahui | Z36: Participación y actoria social | AA36: Espacio de sensibilización y empoderamiento con adolescentes mujeres de 13 a 17 años, en Cotogchoa | AB36: 1 grupo de mujeres adolescentes formado con enfoque de derechos y herramientas psicosociales en Cotogchoa | AC36: 1 GAD parroquial 1 Grupo de Mujeres agroecológicas. 1 Grupo de seguridad. 1 Liga deportiva. 1 Programa la Ribera 1 Grupo de la Iglesia Grupos de danza | AD36: 1 grupo de mujeres adolescentes cohesionado con redes de apoyo y conocimiento en derechos. 20 mujeres adolescentes cuentan con plan de vida. | AE36: 18030 | AF36: =+AE36 -> 18030 | AG36: =+AE36-AF36 -> 0 | AH36: Cristina Carrasco | AI36: SI | AJ36: SI | AK36: NA | AL36: NA | AM36: NO | AN36: NA | AO36: NA | AP36: NA | AQ36: NA | AR36: NA | AS36: SI | AT36: NA | AU36: Sanción por incumplimiento de la Normativa nacional y funciones del GADMUR | AV36: Sangolquí San Rafael Cotogchoa Fajardo San Pedro de T Rumipamba | AW36: Todos los barrios | AX36: 784205 | AY36: 9963523 | AZ36: 44.244 | BA36: 10000 | BB36: 1000 | BC36: Msc CarlaAcosta/Saraí Ushiña | BD36: X | BE36: NA | BF36: 45154 | BG36: 45291 | BL36: 6 meses | BM36: 45154 | BN36: 45291 | BO36: NA | BP36: NA | BQ36: NA | BR36: X | BS36: NA | BT36: NA | BU36: NA | BV36: NA | BW36: NA | BX36: NA | BY36: NA | BZ36: =18030/6 -> 3005 | CA36: =18030/6 -> 3005 | CB36: =18030/6 -> 3005 | CC36: =18030/6 -> 3005 | CD36: =18030/6 -> 3005 | CE36: =18030/6 -> 3005 | CF36: =SUM(BZ36:CE36) -> 18030
Z37: Edu-comunicación | AA37: Impulsar el programa de sensibilización y empodeamiento de adolescentes. | AB37: 1 marca institucional de la estrategia de trabajo con adolescentes | AC37: 0 estrategias institucionales | AD37: 1 proyecto con imagen institucionalizada. 1 producto audiovisual. | AH37: Marco Ayala | AI37: SI | AJ37: SI | AK37: NA | AL37: NA | AM37: NO | AN37: NA | AO37: NA | AP37: NA | AQ37: NA | AR37: NA | AS37: SI | AT37: NA | AU37: Sanción por incumplimiento de la Normativa nacional y funciones del GADMUR | AV37: Sangolquí San Rafael Cotogchoa Fajardo San Pedro de T Rumipamba | AW37: Todos los barrios
B38: Lograr la actoria social de grupos de atención prioritaria | C38: Impulsar la aplicación de una ar la Ordenanza q insentive a serctores urbanos y rurales del Cantón para ser parte activa de los diferentes mecanismos de Participación Ciudadana: Consejos consultivos, audiencias públicas, presupuestos participados, asambleas ciudadanas, silla vacia, cabildos populares, de tal manera q se insida, aporte, genere políticas públicas locales hacia los grupos de atención prioritaria | D38: Componente Sociocultural | E38: Aportar en el fortalecimiento de políticas públicas integrales, que promuevan la igualdad de oportunidades y la promoción de derechos con énfasis en los grupos prioritarios y vulnerables. | V38: Levantamiento y actualización de información de los grupos de atención prioritaria | W38: Actualización de la Agenda Local de Igualdad para el cantón Rumiñahui | Z38: Participación y actoria social | AA38: Identificar sectores representativos a nivel cantonal de (6 parroquias) para el levantamiento de información. | AB38: # de parroquias # de barrios identificados # de personas participantes # de instituciones participantes # de alianzas interinstitucionales. | AC38: 1 ALI desactualizada 2017 1 Diagnóstico de condiciones socioculturales de los grupos de atención prioritaria, levantado en el año prioritarios 2015. | AD38: 6 de parroquias 30 de barrios identificados 1000 de personas participantes 30 de instituciones participantes 1 de alianzas interinstitucionales. 1 diagnóstico de Grupos de Atención prioritaria 2023. | AE38: 50000 | AF38: 6325.76 | AG38: =+AE38-AF38-AF39 -> 38274.24 | AI38: SI | AJ38: SI | AK38: NA | AL38: NA | AM38: NO | AN38: NA | AO38: NA | AP38: NA | AQ38: NA | AR38: NA | AS38: SI | AT38: NA | AU38: Sanción por incumplimiento de la Normativa nacional y funciones del GADMUR | AV38: Sangolquí San Rafael Cotogchoa Fajardo San Pedro de T Rumipamba | AW38: Todos los barrios
G39: =SUM(G35,G31,G24,G23,G18,G14,G12,G11,G10) -> 0 | AF39: 5400
W41: GASTO DE INVERSION | Y41: =+AE9+AE10+AE11+AE12+AE13+AE14+AE23+AE24+AE26+AE31+AE35 -> #VALUE! | Z41: ='[1]MATRIZ INVERSION'!W39 -> GASTO DE INVERSION | AB41: =+AE9+AE10+AE11+AE13+AE23+AE24+AE27+AE35 -> 16871.68 | AC41: =+AF9+AF10+AF11+AF13+AF23+AF24+AF27+AF35 -> 16778.12
W42: GASTO PRESUPUESTO PARTICIPATIVO 2023 | Y42: =+AE36 -> 18030 | Z42: ='[1]MATRIZ INVERSION'!W40 -> GASTO PRESUPUESTO PARTICIPATIVO 2023 | AB42: ='[1]MATRIZ INVERSION'!Y40 -> 18030 | AC42: =+AF36 -> 18030
...

Sheet TALENTO HUMANO
A1: PLANIFICACIÓN OPERATIVA ANUAL POA 2023 TALENTO HUMANO
A2: FUNCIONAMIENTO DEL CONSEJO CANTONAL DE PROTECCION DE DERECHOS DE RUMIÑAHUI "COPRODER"
A3: 5. GASTO CORRIENTE
A4: CÓDIGO | B4: TIPO DE ACTIVIDADES | C4: DESCRIPCIÓN | D4: CANTIDAD | E4: VALOR MENSUAL | F4: COMPROMETIDO | G4: TOTAL COMPONENTE
A6: 5.1 | B6: GASTO EN PERSONAL
A7: 5.1.01 | B7: REMUNERACIONES BÁSICAS
A8: 5.1.01.05 | B8: REMUNERACIÓN UNIFICADA
A9: 5.1.01.05.01 | B9: Servidor Directivo 2 | C9: SECRETARIO TÉCNICO EJECUTIVO Psi. JOSE LUIS CEVALLOS (Enero - Mayo) | D9: 5 | E9: 2368 | F9: =+E9*4+1736.53 -> 11208.53 | G9: =SUM(F9:F16) -> 19448.2
A10: 5.1.02.03 | B10: Décimo Tercer Sueldo | D10: 1 | E10: 362.5 | F10: =+E10*D10 -> 362.5
A11: 5.1.02.04 | B11: Décimo Cuarto Sueldo | D11: 1 | E11: 1118.22 | F11: =+E11*D11 -> 1118.22
A12: 5.1.04.06 | B12: Por Vacaciones | D12: 1 | E12: 3236.13 | F12: =+E12*D12 -> 3236.13
A13: 5.1.06.01 | B13: Aporte Patronal IESS 11.15% | D13: 5 | E13: 264.03 | F13: =+E13*4+193.62 -> 1249.74
A14: 5.1.06.02 | B14: Fondo de Reserva | D14: 5 | E14: 197.25 | F14: =+E14*4+144.65 -> 933.65
A15: 5.8.04.06 | B15: Aportes IECE 0,50% | D15: 5 | E15: 11.84 | F15: =+E15*4+8.68 -> 56.04
B16: Aporte lndividual IESS 11.45% | D16: 5 | E16: 271.14 | F16: =+E16*4+198.83 -> 1283.39
A17: 5.1.01.05.01 | B17: Servidor Directivo 2 | C17: SECRETARIA TÉCNICA EJECUTIVA MSc. CARLA ACOSTA (Junio - Julio) | D17: 7 | E17: 2368 | F17: =+E17*D17 -> 16576 | G17: =+F23+F22+F21+F20+F19+F18+F17+F24 -> 21664.47
A18: 5.1.02.03 | B18: Décimo Tercer Sueldo | D18: 1 | E18: 1184.4 | F18: =+E18*D18 -> 1184.4
A19: 5.1.02.04 | B19: Décimo Cuarto Sueldo | D19: 1 | E19: 75 | F19: =+E19*D19 -> 75
A20: 5.1.04.06 | B20: Por Vacaciones | D20: 1 | E20: 0 | F20: =+E20*D20 -> 0
A21: 5.1.06.01 | B21: Aporte Patronal IESS 11.15% | D21: 7 | E21: 264.03 | F21: =+E21*D21 -> 1848.21
A22: 5.1.06.02 | B22: Fondo de Reserva | D22: 1 | E22: 0 | F22: =+E22+E22 -> 0
A23: 5.8.04.06 | B23: Aportes IECE 0,50% | D23: 7 | E23: 11.84 | F23: =+E23*D23 -> 82.88
A24: 2.1.3.51.02 | B24: Aporte lndividual IESS 11.45% | D24: 7 | E24: 271.14 | F24: =+E24*D24 -> 1897.98
A25: 5.1.01.05.03 | B25: Servidor Municipal 7 | C25: ANALISTA DE SEGUIMIENTO Y EVALUACION DE LA POLITICA PUBLICA SARAI USHIÑA | D25: 12 | E25: 1212 | F25: =+E25*D25 -> 14544 | G25: =+F25+F26+F28+F27+F29+F30+F31+F32 -> 20777.179
A26: 5.1.02.03 | B26: Décimo Tercer Sueldo | D26: 1 | E26: 1212 | F26: =+E26*D26 -> 1212
A27: 5.1.02.04 | B27: Décimo Cuarto Sueldo | D27: 1 | E27: 450 | F27: =+E27*D27 -> 450
A28: 5.1.04.06 | B28: Por Vacaciones | D28: 1 | E28: 0 | F28: =+E28*D28 -> 0
A29: 5.1.06.01 | B29: Aporte Patronal IESS 11.15% | D29: 12 | E29: =+E25*11.15/100 -> 135.138 | F29: =+E29*D29 -> 1621.656
A30: 5.1.06.02 | B30: Fondo de Reserva | D30: 12 | E30: =+E25*8.33/100 -> 100.9596 | F30: =+E30*D30 -> 1211.5152
A31: 5.8.04.06 | B31: Aportes IECE 0,50% | D31: 12 | E31: =+E25*0.5/100 -> 6.06 | F31: =+E31*D31 -> 72.72
A32: 2.1.3.51.02 | B32: Aporte lndividual IESS 11.45% | D32: 12 | E32: =+E25*11.45/100 -> 138.774 | F32: =+E32*D32 -> 1665.288
A33: 5.1.01.05.04 | B33: Servidor Municipal 4 | C33: ANALISTA ADMINISTRATIVA, FINANCIERA Y TALENTO HUMANO FERNANDA ORTIZ | D33: 12 | E33: 986 | F33: =+E33*D33 -> 11832 | G33: =+F33+F34+F35+F36+F37+F38+F39+F40 -> 16986.798
A34: 5.1.02.03 | B34: Décimo Tercer Sueldo | D34: 1 | E34: =+E33 -> 986 | F34: =+E34*D34 -> 986
A35: 5.1.02.04 | B35: Décimo Cuarto Sueldo | D35: 1 | E35: 450 | F35: =+E35*D35 -> 450
A36: 5.1.04.06 | B36: Por Vacaciones | D36: 1 | E36: 0 | F36: =+E36*D36 -> 0
A37: 5.1.06.01 | B37: Aporte Patronal IESS 11.15% | D37: 12 | E37: =+E33*11.15/100 -> 109.939 | F37: =+E37*D37 -> 1319.268
A38: 5.1.06.02 | B38: Fondo de Reserva | D38: 12 | E38: =+E33*8.33/100 -> 82.1338 | F38: =+E38*D38 -> 985.6056
A39: 5.8.04.06 | B39: Aportes IECE 0,50% | D39: 12 | E39: =+E33*0.5/100 -> 4.93 | F39: =+E39*D39 -> 59.16
A40: 2.1.3.51.02 | B40: Aporte lndividual IESS 11.45% | D40: 12 | E40: =+E33*11.45/100 -> 112.897 | F40: =+E40*D40 -> 1354.764
A41: 5.1.01.05.05 | B41: Servidor Municipal 3 | C41: ASISTENTE DE COMUNICACIÓN FRANCISCA SALAZAR | D41: 12 | E41: 817 | F41: =+E41*D41 -> 9804 | G41: =+F41+F42+F43+F44+F45+F46+F47+F48 -> 14152.397
...
